BEGIN:VCALENDAR
VERSION:2.0
PRODID:-//Jazzwerkplaats Den Bosch - ECPv5.16.1.1//NONSGML v1.0//EN
CALSCALE:GREGORIAN
METHOD:PUBLISH
X-ORIGINAL-URL:https://www.jazzwerkplaats.nl
X-WR-CALDESC:Events for Jazzwerkplaats Den Bosch
REFRESH-INTERVAL;VALUE=DURATION:PT1H
X-Robots-Tag:noindex
X-PUBLISHED-TTL:PT1H
BEGIN:VTIMEZONE
TZID:Europe/Amsterdam
BEGIN:DAYLIGHT
TZOFFSETFROM:+0100
TZOFFSETTO:+0200
TZNAME:CEST
DTSTART:20250330T010000
END:DAYLIGHT
BEGIN:STANDARD
TZOFFSETFROM:+0200
TZOFFSETTO:+0100
TZNAME:CET
DTSTART:20251026T010000
END:STANDARD
END:VTIMEZONE
BEGIN:VEVENT
DTSTART;TZID=Europe/Amsterdam:20251130T160000
DTEND;TZID=Europe/Amsterdam:20251130T173000
DTSTAMP:20260421T085959
CREATED:20250711T143110Z
LAST-MODIFIED:20260329T125803Z
UID:31197-1764518400-1764523800@www.jazzwerkplaats.nl
SUMMARY:30/11/'25 Podium Jazzwerkplaats met Ilja Reijngoud & Ed Verhoeff
DESCRIPTION:Op zondag 30 november verwelkomt Podium Jazzwerkplaats het duo The Art of Two\, bestaande uit trombonist Ilja Reijngoud en gitarist Ed Verhoeff. De twee delen een decennia lange muzikale band\, geworteld in hun werk met bands als Nueva Manteca en samenwerkingen met artiesten zoals Izaline Calister. Als The Art of Two verkennen ze een muzikale wereld los van specifieke genres\, waar interactie\, vrijheid en vreugde hun geluid bepalen. Trombone en gitaar weven frisse\, expressieve lijnen\, af en toe versterkt door subtiele elektronica. \nHet duo speelt onder andere de meest uiteenlopende composities van Nederlandse jazzmusici\, uit de vroege jaren ’40 tot vertegenwoordigers van de jonge generatie. Het repertoire is opgebouwd rondom The Dutch Real Book – een kleurrijke verzameling composities van bekende en minder bekende componisten\, denk aan namen als Rogier van Otterloo\, Jerry van Rooyen\, Jasper van ’t Hof\, Jack Bulterman en Kris Goessens. Daarnaast speelt het duo ook veel eigen werk. \nHun debuutalbum Peace is een collectie van eigen composities van het duo\, aangevuld met twee bestaande nummers\, waaronder de prachtige ballad Peace van Horace Silver. \nJe hoort The Art of Two op 30 november in de Jazzwerkplaats!
URL:https://www.jazzwerkplaats.nl/event/30-11-25-podium-jazzwerkplaats-met-ilja-reijngoud-ed-verhoeff/
LOCATION:De Jazzwerkplaats\, Tramkade 26\, 's-Hertogenbosch\, 5211 VB\, Nederland
CATEGORIES:Podium Jazzwerkplaats
ATTACH;FMTTYPE=image/jpeg:https://www.jazzwerkplaats.nl/c/wp-content/uploads/2025/07/promo-studio-foto-e1751827184614.jpg
ORGANIZER;CN="De%20Jazzwerkplaats":MAILTO:info@jazzwerkplaats.nl
END:VEVENT
END:VCALENDAR