BEGIN:VCALENDAR
VERSION:2.0
PRODID:-//Jazzwerkplaats Den Bosch - ECPv5.16.1.1//NONSGML v1.0//EN
CALSCALE:GREGORIAN
METHOD:PUBLISH
X-ORIGINAL-URL:https://www.jazzwerkplaats.nl
X-WR-CALDESC:Events for Jazzwerkplaats Den Bosch
REFRESH-INTERVAL;VALUE=DURATION:PT1H
X-Robots-Tag:noindex
X-PUBLISHED-TTL:PT1H
BEGIN:VTIMEZONE
TZID:Europe/Amsterdam
BEGIN:DAYLIGHT
TZOFFSETFROM:+0100
TZOFFSETTO:+0200
TZNAME:CEST
DTSTART:20260329T010000
END:DAYLIGHT
BEGIN:STANDARD
TZOFFSETFROM:+0200
TZOFFSETTO:+0100
TZNAME:CET
DTSTART:20261025T010000
END:STANDARD
END:VTIMEZONE
BEGIN:VEVENT
DTSTART;TZID=Europe/Amsterdam:20260125T160000
DTEND;TZID=Europe/Amsterdam:20260125T173000
DTSTAMP:20260421T055013
CREATED:20251207T115409Z
LAST-MODIFIED:20251207T121309Z
UID:33040-1769356800-1769362200@www.jazzwerkplaats.nl
SUMMARY:25/01/'26 Podium Jazzwerkplaats met Van Ruller // Hogenhuis
DESCRIPTION:Jesse van Ruller en Maarten Hogenhuis (foto: Jonathan Herman) zijn de eerste gasten bij Podium Jazzwerkplaats in 2026. Ze namen in 2024 hun tweede album Follow the Sound op. Het album onderscheidt zich vooral van zijn voorganger Spirits High (2021) door gezamenlijke composities. Waar bij het eerste album beide muzikanten los van elkaar composities leverden\, heeft het duo nu vrijwel alles op het album samen gecomponeerd. Het resultaat zijn acht zeer organische stukken\, waarin melodie en sound centraal staan. \nInspiratie werd onder meer gehaald uit fluiten van over de hele wereld\, achterzijdes van koffers\, achterzijdes van obscure gitaren\, een indrukwekkende verzameling effecten en een klein\, maar zeer karakteristieke gitaarversterker. Daarnaast liet het duo zich beïnvloeden door een uiteenlopende groep artiesten: van Blake Mills tot Sam Gendel en van Sufjan Stevens tot Shabaka. \nJazzradar schrijft: “Wat een prachtige match is het verrassende duo van gitarist Jesse van Ruller en saxofonist Maarten Hogenhuis!” \nJesse van Ruller\nJesse van Ruller wordt gezien als een van de meest getalenteerde gitaristen van zijn generatie. Hij werkte samen met internationale artiesten als Seamus Blake\, Roy Hargrove\, Joe Lovano en Bill Stewart. Zijn intuïtieve spel wordt gekenmerkt door een diep gevoel voor melodie en een grote mate van ritmische wendbaarheid. \nMaarten Hogenhuis\nSaxofonist Maarten Hogenhuis is een van de vertegenwoordigers van een jonge generatie jazzmuzikanten. Hij speelt bij de superjazz-formatie BRUUT!\, leidt zijn eigen trio en is een veelgevraagd begeleidingsmuzikant. In 2019 kreeg hij de North Sea Jazz Compositie Opdracht toegekend. Eerder maakte hij ook deel uit van The More Socially Relevant Jazz Music Ensemble van Reinier Baas.
URL:https://www.jazzwerkplaats.nl/event/25-01-26-podium-jazzwerkplaats-met-van-ruller-hogenhuis/
LOCATION:De Jazzwerkplaats\, Tramkade 26\, 's-Hertogenbosch\, 5211 VB\, Nederland
CATEGORIES:Podium Jazzwerkplaats
ATTACH;FMTTYPE=image/jpeg:https://www.jazzwerkplaats.nl/c/wp-content/uploads/2025/12/jesse-maarten-final-1-e1765108439472.jpg
ORGANIZER;CN="De%20Jazzwerkplaats":MAILTO:info@jazzwerkplaats.nl
END:VEVENT
END:VCALENDAR