BEGIN:VCALENDAR
VERSION:2.0
PRODID:-//Jazzwerkplaats Den Bosch - ECPv5.16.1.1//NONSGML v1.0//EN
CALSCALE:GREGORIAN
METHOD:PUBLISH
X-WR-CALNAME:Jazzwerkplaats Den Bosch
X-ORIGINAL-URL:https://www.jazzwerkplaats.nl
X-WR-CALDESC:Events for Jazzwerkplaats Den Bosch
REFRESH-INTERVAL;VALUE=DURATION:PT1H
X-Robots-Tag:noindex
X-PUBLISHED-TTL:PT1H
BEGIN:VTIMEZONE
TZID:Europe/Amsterdam
BEGIN:DAYLIGHT
TZOFFSETFROM:+0100
TZOFFSETTO:+0200
TZNAME:CEST
DTSTART:20260329T010000
END:DAYLIGHT
BEGIN:STANDARD
TZOFFSETFROM:+0200
TZOFFSETTO:+0100
TZNAME:CET
DTSTART:20261025T010000
END:STANDARD
END:VTIMEZONE
BEGIN:VEVENT
DTSTART;TZID=Europe/Amsterdam:20260522T200000
DTEND;TZID=Europe/Amsterdam:20260524T230000
DTSTAMP:20260424T134506
CREATED:20260423T090301Z
LAST-MODIFIED:20260423T090301Z
UID:34351-1779480000-1779663600@www.jazzwerkplaats.nl
SUMMARY:Amateurpodium 2026 tijdens Jazz in Duketown
DESCRIPTION:Natuurlijk vind je ook dit jaar weer het Jazzwerkplaats Amateurpodium op Jazz in Duketown. In 2026 is het festival op vrijdag 22\, zaterdag 23 en zondag 24 mei. De bands zijn geselecteerd\, het exacte programma volgt binnenkort. \nKom tijdens het Pinksterweekend naar het Museumplein (bij de ingang van het Noord-Brabants Museum aan de Verwerstraat in Den Bosch) en geniet van de klanken van gepassioneerde amateurmuzikanten uit de regio! Op zondagmiddag kun je zelf meespelen en/of zingen tijdens de Play en Sing Along. \nDe organisatie van dit podium is mogelijk dankzij de enthousiaste inzet van vele vrijwilligers van Jazz in Duketown\, de Jazzwerkplaats en de deelname van vele (amateur) jazz-bands. \nVoor meer informatie over de Play en Sing Along: klik hier
URL:https://www.jazzwerkplaats.nl/event/amateurpodium-2026-tijdens-jazz-in-duketown/
LOCATION:Amateurpodium Jazz in Duketown\, Verwerstraat 41\, 's-Hertogenbosch\, 5211 HT\, Nederland
ATTACH;FMTTYPE=image/jpeg:https://www.jazzwerkplaats.nl/c/wp-content/uploads/2023/12/img_9936-scaled-e1776934944599.jpg
ORGANIZER;CN="De%20Jazzwerkplaats":MAILTO:info@jazzwerkplaats.nl
END:VEVENT
END:VCALENDAR