BEGIN:VCALENDAR
VERSION:2.0
PRODID:-//Jazzwerkplaats Den Bosch - ECPv5.16.1.1//NONSGML v1.0//EN
CALSCALE:GREGORIAN
METHOD:PUBLISH
X-ORIGINAL-URL:https://www.jazzwerkplaats.nl
X-WR-CALDESC:Events for Jazzwerkplaats Den Bosch
REFRESH-INTERVAL;VALUE=DURATION:PT1H
X-Robots-Tag:noindex
X-PUBLISHED-TTL:PT1H
BEGIN:VTIMEZONE
TZID:Europe/Amsterdam
BEGIN:DAYLIGHT
TZOFFSETFROM:+0100
TZOFFSETTO:+0200
TZNAME:CEST
DTSTART:20260329T010000
END:DAYLIGHT
BEGIN:STANDARD
TZOFFSETFROM:+0200
TZOFFSETTO:+0100
TZNAME:CET
DTSTART:20261025T010000
END:STANDARD
END:VTIMEZONE
BEGIN:VEVENT
DTSTART;TZID=Europe/Amsterdam:20260329T160000
DTEND;TZID=Europe/Amsterdam:20260329T173000
DTSTAMP:20260421T025427
CREATED:20260211T151558Z
LAST-MODIFIED:20260329T125851Z
UID:33846-1774800000-1774805400@www.jazzwerkplaats.nl
SUMMARY:29/03/'26 Podium Jazzwerkplaats met Mete Erker Trio + 1
DESCRIPTION:Deze middag hebben we saxofonist Mete Erker met zijn ensemble Trio + 1 te gast. Hij presenteert zijn dubbelalbum Tilburg Noord / Tilburg B-side\, over de verkenning van identiteit en de poëzie die schuilt in de kieren van een jaren ’70 Vinex- wijk. Met dit dubbelalbum slaat Mete Erker een nieuwe weg in\, waarbij hij zijn rijke muzikale ervaring combineert met frisse perspectieven van jonge medemusici. \nSamen met die drie jonge\, eigenzinnige musici stapt Erker in een wereld waarin vrijheid en structuur elkaar ontmoeten. De muziek op beide albums is doordrenkt van persoonlijke verhalen en improvisatorische vrijheid en dat zal ook deze middag zeker aan de orde zijn. Het ensemble beweegt zich moeiteloos tussen ingetogen passages en energieke uitbarstingen\, resulterend in een dynamisch en meeslepend geheel. \nTilburg Noord / Tilburg B- side: eigentijds Europees impressionisme in een wonderlijke mix met de vrije\, extraverte jazz van Albert Ayler en Charlie Haden. Free Flow Music! \n‘Een album dat zowel tijdloos als persoonlijk klinkt.’ – Jazzism over Tilburg Noord \n“Om Tilburg Noord te kunnen maken\, wellicht zijn fraaiste en zeker zijn meest persoonlijke album tot nu toe\, moest de Turks-Nederlandse tenor saxofonist Mete Erker (54) in elk geval in zijn hoofd terug naar de plek waar hij opgroeide.” – De Volkskrant \nBezetting:\nMete Erker – tenorsaxofoon\nFloris Kappeyne – piano\nTijs Klaassen – contrabas\nWouter Kühne – drums
URL:https://www.jazzwerkplaats.nl/event/29-03-26-podium-jazzwerkplaats-met-mete-erker-trio-1/
LOCATION:De Jazzwerkplaats\, Tramkade 26\, 's-Hertogenbosch\, 5211 VB\, Nederland
CATEGORIES:Podium Jazzwerkplaats
ATTACH;FMTTYPE=image/png:https://www.jazzwerkplaats.nl/c/wp-content/uploads/2026/02/mete-erker-persfoto-anna-perger-e1770822481512.png
ORGANIZER;CN="De%20Jazzwerkplaats":MAILTO:info@jazzwerkplaats.nl
END:VEVENT
BEGIN:VEVENT
DTSTART;TZID=Europe/Amsterdam:20260418T140000
DTEND;TZID=Europe/Amsterdam:20260418T170000
DTSTAMP:20260421T025427
CREATED:20260120T205529Z
LAST-MODIFIED:20260329T125836Z
UID:33662-1776520800-1776531600@www.jazzwerkplaats.nl
SUMMARY:18/04/'26 Masterclass CVT o.l.v. Jeroen Manuhutu
DESCRIPTION:Deze middag hebben we een masterclass met Jeroen Manuhutu. De middag start met een gezamenlijke uitleg van de Complete Vocal Technique (CVT)\, gevolgd door een aantal collectieve oefeningen. Daarna krijgt een aantal individuele zangers een-op-een aandacht voor de groep\, terwijl de rest van de groep actief meeluistert en meekijkt. \nCVT is een internationale zangmethode waarmee je jouw zang precies zo kunt laten klinken als jij wilt. CVT is gebaseerd op drie basisprincipes die het fundament onder je zang vormen:\n– ademsteun\n– noodzakelijke twang\n– het vermijden van kaak- en lipspanning \nDeze basis zorgt ervoor dat je helder zingt\, je bereik vergroot\, lange frases kunt volhouden en je stem niet overbelast. \nDaarnaast gaat CVT uit van vier stemfuncties\, elk met hun eigen klank\, bereik en dynamiek: Neutral\, Curbing\, Overdrive en Edge. Door inzicht in deze functies leer je bewuste keuzes maken in klank en expressie. \nDeze middag vindt plaats in een ‘masterclass-achtige setting’. Daarbij werkt Jeroen Manuhutu om de beurt met een individu terwijl de andere deelnemers toezien en -horen. Je kunt je voor deze masterclass dan ook opgeven als actieve zanger (max. 6 – via inschrijfformulier) of als toehoorder (tegen aangepast tarief – tickets hieronder direct te koop). \nActieve deelnemers hebben een één-op-één sessie met Jeroen\, terwijl toehoorders intensief betrokken worden\, bijvoorbeeld door vragen te stellen of ze oefeningen na te laten doen. Juist door het werken in de groep leer je niet alleen van jezelf\, maar ook van elkaar. \nLeeftijd: vanaf 16 jaar\nZangniveau:\n– Voor diegenen die willen zingen in de masterclass:  ervaren tot zeer ervaren\n– Voor het publiek / toehoorders goede amateurs en professionals\nDeelnamekosten: € 65\,00 voor actieve deelnemers (max. 6 – via inschrijfformulier)\, € 15\,00 voor toeschouwers (tickets hieronder te koop) (incl. koffie en thee) \nJeroen Manuhutu\nJeroen Manuhutu is zanger en vocal coach. Hij zong zelf op vele internationale podia en opnames en is actief als studio sessie zanger. Jeroen geeft zangles aan internationale popartiesten\, musicalsterren\, radio- en tv-presentatoren\, acteurs\, cabaretiers en succesvolle YouTubers. Hij coachte bijvoorbeeld bands en vocalisten uit shows als Vrienden van Amstel LIVE\, Beste Zangers en The Masked Singer\, en ook bij Stage Entertainment musicals Wicked\, Mamma Mia en Miss Saigon. Jeroen gaf ook als vaste docent zangles aan conservatoria (pop/rock/jazz)\, theateropleidingen en opleidingen logopedie\, zowel aan studenten als docenten.  \nIn 2003 introduceerde hij Complete Vocal Technique (CVT) in Nederland en is Authorised CVT Teacher sinds 2009. \nMeer informatie nodig? Mail naar info@jazzwerkplaats.nl
URL:https://www.jazzwerkplaats.nl/event/18-04-26-masterclass-cvt-o-l-v-jeroen-manuhutu/
LOCATION:De Jazzwerkplaats\, Tramkade 26\, 's-Hertogenbosch\, 5211 VB\, Nederland
ATTACH;FMTTYPE=image/jpeg:https://www.jazzwerkplaats.nl/c/wp-content/uploads/2026/01/479065173_18294243601237338_3876699292149885803_n-e1768942522270.jpg
ORGANIZER;CN="De%20Jazzwerkplaats":MAILTO:info@jazzwerkplaats.nl
END:VEVENT
END:VCALENDAR