BEGIN:VCALENDAR
VERSION:2.0
PRODID:-//Jazzwerkplaats Den Bosch - ECPv5.16.1.1//NONSGML v1.0//EN
CALSCALE:GREGORIAN
METHOD:PUBLISH
X-ORIGINAL-URL:https://www.jazzwerkplaats.nl
X-WR-CALDESC:Events for Jazzwerkplaats Den Bosch
REFRESH-INTERVAL;VALUE=DURATION:PT1H
X-Robots-Tag:noindex
X-PUBLISHED-TTL:PT1H
BEGIN:VTIMEZONE
TZID:Europe/Amsterdam
BEGIN:DAYLIGHT
TZOFFSETFROM:+0100
TZOFFSETTO:+0200
TZNAME:CEST
DTSTART:20230326T010000
END:DAYLIGHT
BEGIN:STANDARD
TZOFFSETFROM:+0200
TZOFFSETTO:+0100
TZNAME:CET
DTSTART:20231029T010000
END:STANDARD
BEGIN:DAYLIGHT
TZOFFSETFROM:+0100
TZOFFSETTO:+0200
TZNAME:CEST
DTSTART:20240331T010000
END:DAYLIGHT
BEGIN:STANDARD
TZOFFSETFROM:+0200
TZOFFSETTO:+0100
TZNAME:CET
DTSTART:20241027T010000
END:STANDARD
END:VTIMEZONE
BEGIN:VEVENT
DTSTART;TZID=Europe/Amsterdam:20240929T160000
DTEND;TZID=Europe/Amsterdam:20240929T173000
DTSTAMP:20260421T082857
CREATED:20240814T090955Z
LAST-MODIFIED:20240927T130956Z
UID:27533-1727625600-1727631000@www.jazzwerkplaats.nl
SUMMARY:29/09/'24 PODIUM JAZZWERKPLAATS: BRAM VAN DE GLIND QUARTET
DESCRIPTION:Jazztrompettist Bram van de Glind komt eind september naar de Jazzwerkplaats met zijn debuutalbum MIRRORS. Dit album bestaat uit ‘acht muzikale spiegeltjes’\, die tijdens het concert worden afgewisseld met zeer persoonlijke vertellingen. \nIn akoestische kwartetbezetting laat Bram horen hoe hij zich heeft laten inspireren door personen en gebeurtenissen dichtbij hem. Daardoor gaan zijn stukken over herkenbare\, kwetsbare onderwerpen zoals liefde\, familie\, het verliezen van je naasten. Met zijn muziek gaat hij de verbinding aan met zijn publiek en geeft hij hen de ruimte zelf al luisterend de reflectie op te zoeken. \nBram is kind aan huis bij de Jazzwerkplaats. Hij is te vinden in het ZNWO onder leiding van Paul van Kemenade/Jeroen Doomernik. Ook is hij met plezier betrokken bij educatieve projecten zoals de Jazzwerkplaats Play Along. Nu komt hij deze middag langs om zijn eigen muziek ten gehore te brengen. \nIn 2021 won Bram van de Glind de Conservatorium Talent Award. Ook won hij de Rosa Spierhuis/Keep an Eye Foundation Young Talent Award\, waardoor hij zijn debuutplaat kon uitbrengen. \nFoto: Nanda Hagenaars | Artwork: Brandt New Artwork Design
URL:https://www.jazzwerkplaats.nl/event/podium-jazzwerkplaats-bram-van-de-glind/
LOCATION:De Jazzwerkplaats\, Tramkade 26\, 's-Hertogenbosch\, 5211 VB\, Nederland
CATEGORIES:Podium Jazzwerkplaats
ATTACH;FMTTYPE=image/png:https://www.jazzwerkplaats.nl/c/wp-content/uploads/2024/08/bvdg-mirrors-cover-klein-e1723626583816.png
ORGANIZER;CN="De%20Jazzwerkplaats":MAILTO:info@jazzwerkplaats.nl
END:VEVENT
BEGIN:VEVENT
DTSTART;TZID=Europe/Amsterdam:20240526T160000
DTEND;TZID=Europe/Amsterdam:20240526T173000
DTSTAMP:20260421T082857
CREATED:20240418T113819Z
LAST-MODIFIED:20240418T113819Z
UID:26696-1716739200-1716744600@www.jazzwerkplaats.nl
SUMMARY:PODIUM JAZZWERKPLAATS: NYALA
DESCRIPTION:[vc_row][vc_column][vc_column_text css=”.vc_custom_1713440290813{margin-bottom: 0px !important;}”]Op 26 mei speelt Nyala bij Podium Jazzwerkplaats. Nyala wordt gevormd door Pau Li Liem (vocals\, piano)\,  Stef Joosten (elektrische bas) en Jorrit Romme (drums). In mei komt hun debuutalbum A Way of Life uit. Dit album bestaat uit impressionistische muziek die filmische beelden schetst van introspectie\, zwaarte en melancholie in een ogenschijnlijk mooie wereld. Maar net zoals hun onderlinge dynamiek is de muziek luchtig\, vrolijk\, speels met ruimte voor betekenisvolle onderwerpen. Als een overkoepelende visie van hen samen is het een divers album. \nHet trio Nyala is op een continue zoektocht naar de balans tussen licht en duisternis. Ze raken aan de oppervlakte van het geluk en tegelijkertijd duiken ze de diepte in met hun nummers over een onzekere toekomst\, lichtelijk chaotische levens en dagdromen. Nyala’s muziek is steeds veranderend en in beweging. Het kan smeulen\, intens en laag in dynamiek\, maar het heeft de mogelijkheid om uit te groeien tot vurige improvisaties en composities. Vast en repetitief of compleet vrij en geïmproviseerd\, zoals een vlam. \nReflecterend op hun levenservaringen en vooruitkijkend naar wat nog gaat komen\, delen ze deze middag hun muziek met het publiek.[/vc_column_text][/vc_column][/vc_row]
URL:https://www.jazzwerkplaats.nl/event/podium-jazzwerkplaats-nyala/
LOCATION:De Jazzwerkplaats\, Tramkade 26\, 's-Hertogenbosch\, 5211 VB\, Nederland
CATEGORIES:Podium Jazzwerkplaats
ATTACH;FMTTYPE=image/jpeg:https://www.jazzwerkplaats.nl/c/wp-content/uploads/2024/04/083-nyala-by-jkey-photography-scaled.jpg
ORGANIZER;CN="De%20Jazzwerkplaats":MAILTO:info@jazzwerkplaats.nl
END:VEVENT
BEGIN:VEVENT
DTSTART;TZID=Europe/Amsterdam:20240517T200000
DTEND;TZID=Europe/Amsterdam:20240519T220000
DTSTAMP:20260421T082857
CREATED:20240414T144643Z
LAST-MODIFIED:20240430T091754Z
UID:26693-1715976000-1716156000@www.jazzwerkplaats.nl
SUMMARY:Het Jazzwerkplaats Amateurpodium tijdens Jazz in Duketown 2024
DESCRIPTION:Met trots presenteren wij jaarlijks het Jazzwerkplaats Amateurpodium\, een traditie die al bestaat sinds 1998. In 2024 vindt de 50e editie van Jazz in Duketown plaats vanaf vrijdag 17 mei. Dit unieke podium wordt mede mogelijk gemaakt door en gebeurt in samenwerking met festival Jazz In Duketown. Kom tijdens het Pinksterweekend naar het Museumplein (bij de ingang van het Noord-Brabants Museum aan de Verwerstraat in Den Bosch) en geniet van de klanken van gepassioneerde amateurbands uit de regio! \nOok kunnen uiteraard de Play- en Sing Along op zondagmiddag (19 mei) niet ontbreken! \nKlik hier voor de partijen voor de Play Along en de songtekst voor de Sing Along.\n  \n 
URL:https://www.jazzwerkplaats.nl/event/het-jazzwerkplaats-amateurpodium-tijdens-jazz-in-duketown-2024/
LOCATION:Amateurpodium Jazz in Duketown\, Verwerstraat 41\, 's-Hertogenbosch\, 5211 HT\, Nederland
ATTACH;FMTTYPE=image/jpeg:https://www.jazzwerkplaats.nl/c/wp-content/uploads/2014/10/cimg00391.jpg
ORGANIZER;CN="De%20Jazzwerkplaats":MAILTO:info@jazzwerkplaats.nl
END:VEVENT
BEGIN:VEVENT
DTSTART;TZID=Europe/Amsterdam:20240117T203000
DTEND;TZID=Europe/Amsterdam:20240117T220000
DTSTAMP:20260421T082857
CREATED:20231204T111332Z
LAST-MODIFIED:20231204T111332Z
UID:25437-1705523400-1705528800@www.jazzwerkplaats.nl
SUMMARY:Uitvoering Soundmakersproject bij Willem-Twee
DESCRIPTION:Een avontuurlijk en kleurrijk concert van de Bossche Soundmakers onder leiding van de Canadese dirigent Christine Duncan en Edisonwinnaars Ineke Vandoorn en Marc van Vugt. \nHet Soundmakers-project in Nederland is een initiatief van Marc en Ineke. Ze staan bekend om hun avontuurlijke en lyrische muziek en reizen daarmee de hele wereld over. Tijdens een van hun Canadese tournees zagen ze Christine Duncan aan het werk en besloten haar naar Nederland te halen. Christine is de leider en oprichter van het Element Choir\, ’s werelds toonaangevende vocale improvisatiegroep uit Toronto. Geen traditioneel koor\, maar bestaande uit mensen in alle soorten en maten die graag hun stem gebruiken en hun mond open durven te doen – letterlijk en figuurlijk. \nNa twee avonden repeteren bij de Jazzwerkplaats wordt het Soundmakers-project afgesloten met een uitvoering in de Willem Twee Toonzaal. Tijdens dit bijzondere concert improviseren de Bossche Soundmakers\, gedirigeerd door de unieke handsignalen van Christine\, met hun stem ‘soundscapes’ bij de muziek van Ineke en Marc. Denk aan allerlei klanken\, ritmes\, sferen; soms lieflijk en mysterieus\, dan weer emotioneel en krachtig. Er wordt van tevoren niets vastgelegd\, zodat er echt in het moment gemusiceerd wordt. \nKom het ervaren en beleven deze avond. Tickets via: de website van Willem Twee. \nLees hier meer over het Soundmakers-project
URL:https://www.jazzwerkplaats.nl/event/uitvoering-soundmakersproject-bij-willem-twee/
LOCATION:Willem Twee Toonzaal\, Prins Bernhardstraat 4\, 's-Hertogenbosch\, 5211 HE\, Nederland
CATEGORIES:Podium Jazzwerkplaats
ATTACH;FMTTYPE=image/jpeg:https://www.jazzwerkplaats.nl/c/wp-content/uploads/2023/09/christine-duncan-conducting-scaled.jpg
END:VEVENT
BEGIN:VEVENT
DTSTART;TZID=Europe/Amsterdam:20231126T160000
DTEND;TZID=Europe/Amsterdam:20231126T173000
DTSTAMP:20260421T082857
CREATED:20230923T114057Z
LAST-MODIFIED:20230925T103136Z
UID:24603-1701014400-1701019800@www.jazzwerkplaats.nl
SUMMARY:PODIUM JAZZWERKPLAATS: JORIS ROELOFS SOLO
DESCRIPTION:Joris Roelofs Solo – Klank en Woord\nOp zondag 26 november is Joris Roelofs te gast bij Podium Jazzwerkplaats voor een uniek solo-optreden. Joris neemt ons mee door de intrigerende thema’s die hij tegenkwam tijdens zijn onderzoek naar de snijvlakken van improvisatie en politiek. Improvisatie heeft een dubbelzinnige status; het handelen zonder voorbereiding kan zowel lof als verwijten oproepen. Tijdens de coronacrisis prees Mark Rutte bijvoorbeeld de burgers om hun ‘improvisatievermogen’\, terwijl het Algemeen Dagblad juist klaagde over het ‘improvisatiekabinet’. \nIn de muziek kunnen we bij improvisatie en politiek denken aan free jazz musici zoals Max Roach en Charles Mingus\, die hun muziekpraktijk expliciet koppelden aan de strijd tegen racisme in het algemeen en de burgerrechtenbeweging in het bijzonder. Maar ‘improviseren’ heeft van oudsher ook een verbale betekenis: het woord ‘improviseren’ komt van het Italiaanse ‘improvvisare’\, wat in de 16e eeuw stond voor het spontaan componeren van verzen en dialogen in het Italiaanse theater. Later begonnen Italiaanse soloartiesten\, mannelijke improvvisatori en vrouwelijke improvvisatrici\, poëzie te voor te dragen\, waarbij zij het publiek ter plekke om thema’s vroegen. De woorden die ze gebruikten stonden van tevoren niet vast. \nOok het improviseren in de politiek is van oudsher een kwestie van spreken geweest. In politiek opzicht hebben redenaars altijd geworsteld met de vraag of ze hun toespraak woord voor woord moeten memoriseren of gedeeltelijk improviseren\, een kwestie die teruggaat tot de Griekse oudheid. Nog altijd worden aan het al dan niet improviseren waardeoordelen gegeven: denk aan de overtuigende redevoeringen van Barack Obama\, de wat chaotische toespraken van Joe Biden\, maar ook de geïmproviseerde\, revolutionaire rede van onze eigen Pieter Jelles Troelstra uit 1918. \nDe link tussen improvisatie in politiek\, theater\, poëzie en muziek is dat de uitkomst onvoorspelbaar is. Keizer Josef II voerde in 1770 zelfs een heus improvisatieverbod in vanwege de vermeende gevaren ervan. En na de vrijheidsdrang van de Franse Revolutie konden improviserende acteurs  in de gevangenis belanden. Improvisatie bleek een krachtig wapen te zijn. \nTijdens deze middag zullen al deze boeiende onderwerpen terugkomen\, zowel in de toelichtingen als in de muziekstukken zelf. Mis dit bijzondere optreden niet! \nFoto: Hielke Grootendorst
URL:https://www.jazzwerkplaats.nl/event/podium-jazzwerkplaats-joris-roelofs-solo/
LOCATION:De Jazzwerkplaats\, Tramkade 26\, 's-Hertogenbosch\, 5211 VB\, Nederland
CATEGORIES:Podium Jazzwerkplaats
ATTACH;FMTTYPE=image/jpeg:https://www.jazzwerkplaats.nl/c/wp-content/uploads/2023/09/joris-roelofs-foto-hielke-grootendorst-e1695469190469.jpg
ORGANIZER;CN="De%20Jazzwerkplaats":MAILTO:info@jazzwerkplaats.nl
END:VEVENT
END:VCALENDAR