BEGIN:VCALENDAR
VERSION:2.0
PRODID:-//Jazzwerkplaats Den Bosch - ECPv5.16.1.1//NONSGML v1.0//EN
CALSCALE:GREGORIAN
METHOD:PUBLISH
X-ORIGINAL-URL:https://www.jazzwerkplaats.nl
X-WR-CALDESC:Events for Jazzwerkplaats Den Bosch
REFRESH-INTERVAL;VALUE=DURATION:PT1H
X-Robots-Tag:noindex
X-PUBLISHED-TTL:PT1H
BEGIN:VTIMEZONE
TZID:Europe/Amsterdam
BEGIN:DAYLIGHT
TZOFFSETFROM:+0100
TZOFFSETTO:+0200
TZNAME:CEST
DTSTART:20260329T010000
END:DAYLIGHT
BEGIN:STANDARD
TZOFFSETFROM:+0200
TZOFFSETTO:+0100
TZNAME:CET
DTSTART:20261025T010000
END:STANDARD
END:VTIMEZONE
BEGIN:VEVENT
DTSTART;TZID=Europe/Amsterdam:20260524T140000
DTEND;TZID=Europe/Amsterdam:20260524T160000
DTSTAMP:20260424T152037
CREATED:20260423T085134Z
LAST-MODIFIED:20260423T131554Z
UID:34342-1779631200-1779638400@www.jazzwerkplaats.nl
SUMMARY:PLAY & SING ALONG TIJDENS JAZZ IN DUKETOWN 2026
DESCRIPTION:Ook dit jaar staan er natuurlijk weer een PLAY en SING ALONG op het programma tijdens Jazz in Duketown. Want er is niks leuker dan samen muziek maken! Neem op zondagmiddag 24 mei je sax\, trompet\, fluit\, trombone of welk instrument ook mee en kom om 14.00 uur naar het Jazzwerkplaats Amateurpodium op het Museumplein (bij het Noord-Brabants Museum) in Den Bosch. Vervolgens kun je om 15.00 uur meezingen met de Sing Along! \n\n\nPLAY ALONGTijdens de Play Along gaan we met elkaar ter plekke een paar super-swingende stukken live instuderen en uitvoeren\, een soort ‘speed workshop’ zou je het kunnen noemen! Geschikt voor alle leeftijden en niveaus\, mits je maar noten kan lezen. Dit jaar gaan we aan de slag met Soul Bossa Nova van Quincy Jones en Frankenstein van Byron Lee & the Dragonaires. Op het podium staat een fantastische begeleidingsband die voor de juiste ‘groove’ zorgt. Workshopleider Jeroen Doomernik en zijn collega Paul van den Oever gaan de boel in goede banen leiden. \nSING ALONG\nOm 15:00 uur volgt de Sing Along onder de bezielende leiding van jazz-zangeres Vera Westera en ondersteund door diezelfde fantastische Jazzwerkplaats Play Along Talent Band. Ook dit jaar zingen we weer uit volle borst\, doe je mee? De nummers die we gaan zingen zijn Get Lucky van Daft Punk en Happy van Pharrell Williams. \nAls je wilt kun je de stukken die we gaan spelen van tevoren via deze pagina downloaden en beluisteren\, maar we nemen alle partijen ook voor jullie mee. Nodig zoveel mogelijk muziek makende vrienden uit of neem publiek mee\, dan gaan we er wederom een muzikaal Bosch megaspektakel van maken! Oja\, vergeet je lessenaar niet\, en een paar wasknijpers voor als het waait!
URL:https://www.jazzwerkplaats.nl/event/play-sing-along-tijdens-jazz-in-duketown-2026/
LOCATION:Amateurpodium Jazz in Duketown\, Verwerstraat 41\, 's-Hertogenbosch\, 5211 HT\, Nederland
ATTACH;FMTTYPE=image/jpeg:https://www.jazzwerkplaats.nl/c/wp-content/uploads/2026/04/playalong2-e1776934257440.jpg
ORGANIZER;CN="De%20Jazzwerkplaats":MAILTO:info@jazzwerkplaats.nl
END:VEVENT
END:VCALENDAR