BEGIN:VCALENDAR
VERSION:2.0
PRODID:-//Jazzwerkplaats Den Bosch - ECPv5.16.1.1//NONSGML v1.0//EN
CALSCALE:GREGORIAN
METHOD:PUBLISH
X-WR-CALNAME:Jazzwerkplaats Den Bosch
X-ORIGINAL-URL:https://www.jazzwerkplaats.nl
X-WR-CALDESC:Events for Jazzwerkplaats Den Bosch
REFRESH-INTERVAL;VALUE=DURATION:PT1H
X-Robots-Tag:noindex
X-PUBLISHED-TTL:PT1H
BEGIN:VTIMEZONE
TZID:Europe/Amsterdam
BEGIN:DAYLIGHT
TZOFFSETFROM:+0100
TZOFFSETTO:+0200
TZNAME:CEST
DTSTART:20240331T010000
END:DAYLIGHT
BEGIN:STANDARD
TZOFFSETFROM:+0200
TZOFFSETTO:+0100
TZNAME:CET
DTSTART:20241027T010000
END:STANDARD
BEGIN:DAYLIGHT
TZOFFSETFROM:+0100
TZOFFSETTO:+0200
TZNAME:CEST
DTSTART:20250330T010000
END:DAYLIGHT
BEGIN:STANDARD
TZOFFSETFROM:+0200
TZOFFSETTO:+0100
TZNAME:CET
DTSTART:20251026T010000
END:STANDARD
END:VTIMEZONE
BEGIN:VEVENT
DTSTART;TZID=Europe/Amsterdam:20250608T140000
DTEND;TZID=Europe/Amsterdam:20250608T160000
DTSTAMP:20260421T004702
CREATED:20250522T175756Z
LAST-MODIFIED:20250721T122237Z
UID:30663-1749391200-1749398400@www.jazzwerkplaats.nl
SUMMARY:SING en PLAY ALONG op Jazz in Duketown
DESCRIPTION:Op zondag 8 juni is het weer zover: de jaarlijkse XL SING en PLAY ALONG op Jazz in Duketown. Er is natuurlijk niks leuker dan samen muziek maken! Dus neem je mooiste stem én/of instrument mee en kom om 14.00 uur naar het Jazzwerkplaats Amateurpodium op het Museumplein (bij het Noord-Brabants Museum) in Den Bosch. \nDit jaar zingen we Cold Heart van Elton John en Dua Lipa en daarna gaan we in de PLAY ALONG aan de slag met The Sound of Philadelphia van MFSB\, een tijdloze klassieker die de discorevolutie inluidde\, en Killer Joe\, de bekende jazzstandard die we gaan uitvoeren in de funky cool-jazz versie van Quincy Jones. \nAlle informatie en meezing- en meespeel partijen vind je hier \n(Let op: dit jaar is eerst de SING ALONG en daarna om 15.00 uur de PLAY ALONG!)
URL:https://www.jazzwerkplaats.nl/event/sing-en-play-along-op-jazz-in-duketown/
LOCATION:Amateurpodium Jazz in Duketown\, Verwerstraat 41\, 's-Hertogenbosch\, 5211 HT\, Nederland
ATTACH;FMTTYPE=image/jpeg:https://www.jazzwerkplaats.nl/c/wp-content/uploads/2022/05/152612fe-0c9b-436c-aa5f-f195776e5721-kopie.jpg
ORGANIZER;CN="De%20Jazzwerkplaats":MAILTO:info@jazzwerkplaats.nl
END:VEVENT
BEGIN:VEVENT
DTSTART;TZID=Europe/Amsterdam:20250606T200000
DTEND;TZID=Europe/Amsterdam:20250608T220000
DTSTAMP:20260421T004702
CREATED:20250527T075212Z
LAST-MODIFIED:20250527T075234Z
UID:30740-1749240000-1749420000@www.jazzwerkplaats.nl
SUMMARY:Jazzwerkplaats Amateurpodium - Jazz in Duketown
DESCRIPTION:Kom tijdens het Pinksterweekend naar het Museumplein (bij de ingang van het Noord-Brabants Museum aan de Verwerstraat in Den Bosch) en geniet van de klanken van gepassioneerde amateurmuzikanten uit de regio! \nEn doe ook vooral mee met de Sing en Play Along op zondagmiddag. Alle informatie en de partijen kun je hier vinden. \nProgramma: 
URL:https://www.jazzwerkplaats.nl/event/jazzwerkplaats-amateurpodium-jazz-in-duketown/
LOCATION:Amateurpodium Jazz in Duketown\, Verwerstraat 41\, 's-Hertogenbosch\, 5211 HT\, Nederland
ATTACH;FMTTYPE=image/jpeg:https://www.jazzwerkplaats.nl/c/wp-content/uploads/2025/05/programma-amateurpodium-2025.jpg
END:VEVENT
BEGIN:VEVENT
DTSTART;TZID=Europe/Amsterdam:20240310T121500
DTEND;TZID=Europe/Amsterdam:20240310T134500
DTSTAMP:20260421T004702
CREATED:20240205T144932Z
LAST-MODIFIED:20240305T132413Z
UID:25845-1710072900-1710078300@www.jazzwerkplaats.nl
SUMMARY:Jazzwerkplaats Play Along tijdens Horn of Plenty
DESCRIPTION:[vc_row padding=”0″ id=”aboutcompany-ID”][vc_column][vc_column_text disable_pattern=”false” css=”.vc_custom_1709645049074{margin-bottom: 0px !important;}”]\n\nWil je zelf meespelen in een XL-band tijdens Horn of Plenty? Dat kan op deze zondagmiddag! Er is natuurlijk niets leuker dan samen muziek maken. Neem je sax\, trompet\, fluit\, trombone of ander (blaas)instrument mee en doe mee! \n\n\nOnder leiding van Jeroen Doomernik van de Jazzwerkplaats ga je ter plekke een paar superswingende stukken instuderen. Een soort ‘speedworkshop’ zou je het kunnen noemen! Geschikt voor alle leeftijden en niveaus\, mits je maar noten kan lezen. Op het podium staat een fantastische begeleidingsband met jonge toptalenten vanuit de Jazzwerkplaats\, die voor de juiste ‘groove’ zorgt. \nAls je wilt\, kun je de stukken die we gaan spelen van tevoren hier downloaden en beluisteren\, maar we nemen alle partijen ook voor je mee. Deelname is gratis. Van tevoren aanmelden is fijn\, maar je kunt ook gewoon last-minute aanhaken. \nNodig zoveel mogelijk muziekmakende vrienden uit en neem publiek mee\, zodat het echt een megaleuke en muzikale happening wordt! \nBezetting Play Along Talent Band: Bram van de Glind (trompet)\, Eva van der Sterren (viool)\, Jan Lobee (tenorsax)\, Jelle Willems (piano)\, Rik Jasker (gitaar)\, Kees van Schijndel (bas) en Ap Verhoeven (drums). \nHorn of Plenty: Experience the hottest horns to the fullest!\nJazzwerkplaats Play Along (XL) is onderdeel van het festival Horn of Plenty. Van 4 t/m 10 maart 2024 kleurt ’s-Hertogenbosch weer roze voor dit grote blaasmuziekspektakel van Nederland. Samen met trompettist Eric Vloeimans zet Horn of Plenty de blaasmuziek maar liefst zeven dagen lang\, verspreid over de meest prominente podia van de stad\, in het zonnetje. Het wordt een kleurrijk spektakel\, waarbij allerlei genres aan bod komen. Kom genieten van extravagante optredens en intieme concerten én laat je omverblazen door dit meerdaagse feest van de blaasmuziek. Vanaf drie concerten of meer ontvang je korting op je tickets. \nBeeld: Artishoot / Wim Roelsma \n\n[/vc_column_text][/vc_column][/vc_row]
URL:https://www.jazzwerkplaats.nl/event/jazzwerkplaats-play-along-tijdens-horn-of-plenty/
LOCATION:Theater aan de Parade\, Parade 23\, 's-Hertogenbosch\, 5211 KL\, Nederland
CATEGORIES:Horn of Plenty
ATTACH;FMTTYPE=image/png:https://www.jazzwerkplaats.nl/c/wp-content/uploads/2024/02/eric-vloeimans-25--e1707144523266.png
END:VEVENT
END:VCALENDAR