BEGIN:VCALENDAR
VERSION:2.0
PRODID:-//Jazzwerkplaats Den Bosch - ECPv5.16.1.1//NONSGML v1.0//EN
CALSCALE:GREGORIAN
METHOD:PUBLISH
X-WR-CALNAME:Jazzwerkplaats Den Bosch
X-ORIGINAL-URL:https://www.jazzwerkplaats.nl
X-WR-CALDESC:Events for Jazzwerkplaats Den Bosch
REFRESH-INTERVAL;VALUE=DURATION:PT1H
X-Robots-Tag:noindex
X-PUBLISHED-TTL:PT1H
BEGIN:VTIMEZONE
TZID:Europe/Amsterdam
BEGIN:DAYLIGHT
TZOFFSETFROM:+0100
TZOFFSETTO:+0200
TZNAME:CEST
DTSTART:20250330T010000
END:DAYLIGHT
BEGIN:STANDARD
TZOFFSETFROM:+0200
TZOFFSETTO:+0100
TZNAME:CET
DTSTART:20251026T010000
END:STANDARD
END:VTIMEZONE
BEGIN:VEVENT
DTSTART;TZID=Europe/Amsterdam:20250626T200000
DTEND;TZID=Europe/Amsterdam:20250626T213000
DTSTAMP:20260425T200900
CREATED:20241209T173911Z
LAST-MODIFIED:20250721T122059Z
UID:28640-1750968000-1750973400@www.jazzwerkplaats.nl
SUMMARY:26/6/'25 Podium Jazzwerkplaats: Martin Fondse - Wild Card
DESCRIPTION:Martin Fondse & Femi Dawkins – Wild Card\nmet special guest Jesse Schilderink\nEnglish spoken\n \nVeelzijdig componist en pianist Martin Fondse en multidisciplinair artiest Femi Dawkins onderzoeken de kracht van de Wild Card: de onvoorspelbare factor\, de joker die regels tart en vrij beweegt tussen structuren. In het kaartspel is de Wild Card de troef\, het symbool van de ultieme vrijheid. Het kan elke rol aannemen\, spelpatronen doorbreken en onverwachte wendingen brengen. In de maatschappij vervult de Wild Card een soortgelijke functie: het is de denker\, de dwarsligger\, de kunstenaar\, die vastgeroeste ideeën bevraagt en ruimte maakt voor iets nieuws. Radicale liefde\, radicale hoop\, alles is mogelijk. \nVoor Wild Card duiken Martin en Femi in de wereld waar akoestische instrumenten\, elektronica\, spoken word\, poëzie\, beeldende kunst samensmelten. Via live sampling en projecties van Dawkins beeldend werk gaan ze met elkaar in dialoog en met hun omgeving. Hier geldt geen vast spelverloop – Wild Card brengt verrassingen\, improvisatie en een constant verschuivend perspectief. \nIn deze samenwerking tussen Martin Fondse en Femi Dawkins wordt de Wild Card een stem: radicaal\, poëtisch en confronterend. Dawkins’ krachtige\, maatschappijkritische teksten over rechtvaardigheid\, het slavernijverleden en de menselijke zoektocht naar betekenis\, vormen een contrastrijke dialoog met Martins beschouwende en avontuurlijke muziek. Zonder vastgelegde rolverdeling: beiden nemen de Wild Card-positie in\, bewegen vrij tussen disciplines en laten het onverwachte toe. \nCredits:\ncomposities\, piano\, electronics: Martin Fondse\nspoken word & visuals: Femi Dawkins \n\nOver de makers:\nMartin Fondse (1967) is pianist\, componist en arrangeur die zich niets aantrekt van hokjes. Voor Fondse bestaan er geen strakke scheidslijnen tussen stijlen als klassiek\, jazz en wereldmuziek\, hij mixt het allemaal met gemak. Zijn muziek is een versmelting van humor\, emotie en verhalen. Soms intiem en poëtisch\, andere keren juist speels en verrassend. Martin werkt in verschillende samenstellingen met uiteenlopende inspirerende musici: met zijn eigen orkest\, kleine ensembles\, duo’s en solo. In 2022 en 2023 bekleedde hij de positie van Componist des Vaderlands\, ambassadeur van de Nederlandse gecomponeerde muziek. Hij won in 2017 de Boy Edgarprijs\, de grootste jazzprijs van Nederland. \nFemi Dawkins (1966)\, geboren op de Bahama’s\, opgegroeid in Jamaica en New York\, behaalde zijn Master of Fine Arts aan Goldsmiths University in Londen. Sinds 1991 is hij actief als multidisciplinair kunstenaar in Amsterdam. Als kind van de diaspora beweegt Dawkins zich tussen uiteenlopende werelden. Met zijn kunst onderzoekt hij taal\, verhalen en vertellingen en bevraagt hij de diepgewortelde ideeën omtrent identiteitsvorming. Als Spoken Word artist ‘Jimmy Rage’ heeft hij samengewerkt met tal van gerenommeerde muzikanten\, waaronder Archie Shepp\, Kindred Spirits Ensemble en Eric van der Westen. In 2022 won hij de Gieskes-Strijbis Podiumprijs 2022. Uit het juryrapport Podiumprijs: “Dawkins behoort tot de kleine voorhoede die de weg vrijmaakte voor erkenning en omarming van de genres Urban Arts en Spoken Word in Nederlandse podiumkunsten. Hij blijft verrassen en uitdagen binnen en buiten bestaande kaders\, altijd met veel maatschappelijke urgentie en zeggingskracht.” \nSpecial Guest: Jesse Schilderink – Saxen\nSaxofonist Jesse Schilderink komt mee als special guest. In 2025 kennen Martin en Jesse elkaar tien jaar. Hun samenwerking begon bij het Nederlands Jeugd Jazz Orkest (NJJO). Inmiddels is Jesse een veelgehoord saxofonist op de Nederlandse podia. Zijn gloedvolle\, rauwe spel vormt een energieke toevoeging bij deze editie van Wild Card.
URL:https://www.jazzwerkplaats.nl/event/26-06-25-podium-jazzwerkplaats-martin-fondses-the-joker/
LOCATION:De Jazzwerkplaats\, Tramkade 26\, 's-Hertogenbosch\, 5211 VB\, Nederland
CATEGORIES:Podium Jazzwerkplaats
ATTACH;FMTTYPE=image/jpeg:https://www.jazzwerkplaats.nl/c/wp-content/uploads/2024/12/wild-card-postertje-a5-e1749457821932.jpg
ORGANIZER;CN="De%20Jazzwerkplaats":MAILTO:info@jazzwerkplaats.nl
END:VEVENT
BEGIN:VEVENT
DTSTART;TZID=Europe/Amsterdam:20250525T160000
DTEND;TZID=Europe/Amsterdam:20250525T173000
DTSTAMP:20260425T200900
CREATED:20250405T095916Z
LAST-MODIFIED:20250721T122401Z
UID:30003-1748188800-1748194200@www.jazzwerkplaats.nl
SUMMARY:25/05/'25 PODIUM JAZZWERKPLAATS: REINIER BAAS EN BEN VAN GELDER
DESCRIPTION:Op 25 mei zijn gitarist Reinier Baas en saxofonist Ben van Gelder te gast bij Podium Jazzwerkplaats. Ze presenteren hun nieuwe album This is Water. Het is hun derde gezamenlijke plaat\, geworteld in de Amerikaanse jazztraditie\, maar met onmiskenbaar Europese flair. Puttend uit een gedeeld muzikaal vocabulaire\, navigeren Baas en van Gelder moeiteloos door een divers scala aan stemmingen en sferen. \nBaas en Van Gelder werken al 15 jaar samen en stonden inmiddels meer dan 300 keer samen op het podium\, van het Concertgebouw tot North Sea Jazz Festival en internationale clubs en festivals. Volgens TROUW is er “geen tweetal dat in de afgelopen tien jaar bepalender is geweest voor het geluid van de jazz in Nederland”. \nVier muzikanten – stuk voor stuk zeer bewonderd door het duo – maken hun opwachting op This Is Water: drummers Jeff Ballard en Han Bennink en pianisten Cory Smythe en Marta Warelis. Baas en van Gelder schreven nieuwe muziek op maat voor voor elk van hen. Deze op maat gemaakte nummers spelen in op de sterke punten van elke gast\, met een focus op improvisatie. \n“Een prachtplaat van een stel muzikanten van grote internationale allure”\, aldus de Volkskrant. \nBen van Gelder\nBen van Gelder bracht verscheidene platen uit onder zijn eigen naam\, met het ambitieuze kerkorgel-project ‘Manifold’ als meest recente. Van Gelder won verschillende prijzen\, waaronder de Deloitte Jazz Award en een onderscheiding van de National Foundation for Advancement in the Arts in Amerika. \nReinier Baas\nReinier Baas werkte als gastsolist met onder meer de WDR Big Band\, Jazzorchestra of the Concertgebouw en het Metropole Orkest. Als componist kreeg hij commissies van Pynarello Symphony Orchestra\, North Sea Jazz Festival en November Music. Zijn muziek werd tweemaal bekroond met een Edison Jazz Award (in 2013 en 2017). \n\nLees hier meer over het duo en This is Water 
URL:https://www.jazzwerkplaats.nl/event/25-05-25-podium-jazzwerkplaats-reinier-baas-en-ben-van-gelder/
LOCATION:De Jazzwerkplaats\, Tramkade 26\, 's-Hertogenbosch\, 5211 VB\, Nederland
CATEGORIES:Podium Jazzwerkplaats
ATTACH;FMTTYPE=image/jpeg:https://www.jazzwerkplaats.nl/c/wp-content/uploads/2025/04/ben-reinier-2-scaled-e1743847149747.jpg
END:VEVENT
END:VCALENDAR